BEGIN:VCALENDAR
VERSION:2.0
PRODID:-//AOHVA - ECPv6.15.17//NONSGML v1.0//EN
CALSCALE:GREGORIAN
METHOD:PUBLISH
X-WR-CALNAME:AOHVA
X-ORIGINAL-URL:https://aohva.com
X-WR-CALDESC:Events for AOHVA
REFRESH-INTERVAL;VALUE=DURATION:PT1H
X-Robots-Tag:noindex
X-PUBLISHED-TTL:PT1H
BEGIN:VTIMEZONE
TZID:UTC
BEGIN:STANDARD
TZOFFSETFROM:+0000
TZOFFSETTO:+0000
TZNAME:UTC
DTSTART:20160101T000000
END:STANDARD
END:VTIMEZONE
BEGIN:VEVENT
DTSTART;TZID=UTC:20200117T080000
DTEND;TZID=UTC:20200119T170000
DTSTAMP:20260422T002835
CREATED:20200102T022511Z
LAST-MODIFIED:20200102T022511Z
UID:3492-1579248000-1579453200@aohva.com
SUMMARY:Edmonton Motorcycle Show
DESCRIPTION:
URL:https://aohva.com/event/edmonton-motorcycle-show-2/
LOCATION:Alberta
END:VEVENT
BEGIN:VEVENT
DTSTART;TZID=UTC:20200110T080000
DTEND;TZID=UTC:20200112T170000
DTSTAMP:20260422T002835
CREATED:20200102T022356Z
LAST-MODIFIED:20200102T022356Z
UID:3490-1578643200-1578848400@aohva.com
SUMMARY:Calgary Motorcycle Show
DESCRIPTION:
URL:https://aohva.com/event/calgary-motorcycle-show-2/
LOCATION:Alberta
END:VEVENT
BEGIN:VEVENT
DTSTART;TZID=UTC:20190204T160000
DTEND;TZID=UTC:20190204T190000
DTSTAMP:20260422T002835
CREATED:20190201T040206Z
LAST-MODIFIED:20190201T040206Z
UID:2260-1549296000-1549306800@aohva.com
SUMMARY:Sundre Bighorn Country Public Information Session
DESCRIPTION:Sundre \nMonday\, Feb. 4\nRoyal Canadian Legion Map\n135 6 Street SE\nSundre\n4 p.m. – 7 p.m.
URL:https://aohva.com/event/sundre-bighorn-country-public-information-session/
LOCATION:Alberta
END:VEVENT
BEGIN:VEVENT
DTSTART;TZID=UTC:20190203T130000
DTEND;TZID=UTC:20190203T160000
DTSTAMP:20260422T002835
CREATED:20190201T040022Z
LAST-MODIFIED:20190201T040047Z
UID:2256-1549198800-1549209600@aohva.com
SUMMARY:Red Deer Bighorn Country Information Session
DESCRIPTION:Red Deer \nSunday\, Feb. 3\nWesterner Centre Map\n4847A 19 Street\nRed Deer\n1 p.m. – 4 p.m.
URL:https://aohva.com/event/red-der-bighorn-country-information-session/
LOCATION:Alberta
END:VEVENT
BEGIN:VEVENT
DTSTART;TZID=UTC:20190202T130000
DTEND;TZID=UTC:20190202T160000
DTSTAMP:20260422T002835
CREATED:20190201T035907Z
LAST-MODIFIED:20190201T035907Z
UID:2254-1549112400-1549123200@aohva.com
SUMMARY:Edmonton Bighorn Country Public Information Session
DESCRIPTION:Edmonton \nSaturday\, Feb. 2\nPolish Hall Map\n10960 104 Street\nEdmonton\n1 p.m. – 4 p.m.
URL:https://aohva.com/event/edmonton-bighorn-country-public-information-session/
LOCATION:Alberta
END:VEVENT
BEGIN:VEVENT
DTSTART;TZID=UTC:20190201T160000
DTEND;TZID=UTC:20190201T190000
DTSTAMP:20260422T002835
CREATED:20190201T035705Z
LAST-MODIFIED:20190201T035705Z
UID:2251-1549036800-1549047600@aohva.com
SUMMARY:Drayton Valley Bighorn Country Public Information Session
DESCRIPTION:Drayton Valley \nFriday\, Feb. 1\nClean Energy Technology Centre Map\n5400 22 Avenue\nDrayton Valley\n4 p.m. – 7 p.m. \n 
URL:https://aohva.com/event/drayton-valley-bighorn-country-public-information-session/
LOCATION:Alberta
END:VEVENT
BEGIN:VEVENT
DTSTART;TZID=UTC:20190111T150000
DTEND;TZID=UTC:20190114T000000
DTSTAMP:20260422T002835
CREATED:20181206T221305Z
LAST-MODIFIED:20181206T221305Z
UID:2151-1547218800-1547424000@aohva.com
SUMMARY:The Edmonton Motorcycle Show
DESCRIPTION:Edmonton Expo Centre \nFri: noon-9:00\, Sat: 10:00 – 8:00\, Sun: 10:00 – 5:00 \nVISIT the AOHVA Booth for important information about the recently announced Bighorn Country and the upcoming riding season. \nSee all the NEW 2019 motorcycles\, scooters\, ATVs and side-by-sides\, all under one roof.  Meet tons of experts\, check out the latest gear and apparel\, and get all-revved up for your next adventure!Whether you’re a hardcore rider or a recreational enthusiast\, a curious fan or just tired of the cold winter weather\, The 2019 Edmonton Motorcycle Show has got you covered!
URL:https://aohva.com/event/the-edmonton-motorcycle-show/
LOCATION:Alberta
END:VEVENT
BEGIN:VEVENT
DTSTART;TZID=UTC:20190104T190000
DTEND;TZID=UTC:20190107T000000
DTSTAMP:20260422T002835
CREATED:20181206T220857Z
LAST-MODIFIED:20181206T220857Z
UID:2149-1546628400-1546819200@aohva.com
SUMMARY:The Calgary Motorcycle Show
DESCRIPTION:BMO Centre\, Stampede Park \nCalgary \nFri: noon-9:00\, Sat: 10:00 – 8:00\, Sun: 10:00 – 5:00 \nVISIT the AOHVA Booth for important information about the recently announced Bighorn Country and the upcoming riding season. \nSee all the NEW 2019 motorcycles\, scooters\, ATVs and side-by-sides\, all under one roof.  Meet tons of experts\, check out the latest gear and apparel\, and get all-revved up for your next adventure! \nWhether you’re a hardcore rider or a recreational enthusiast\, a curious fan or just tired of the cold winter weather\, The 2019 Calgary Motorcycle Show has got you covered!
URL:https://aohva.com/event/the-calgary-motorcycle-show/
LOCATION:Alberta
END:VEVENT
BEGIN:VEVENT
DTSTART;TZID=UTC:20180527T120000
DTEND;TZID=UTC:20180527T150000
DTSTAMP:20260422T002835
CREATED:20180509T201325Z
LAST-MODIFIED:20180509T201325Z
UID:2087-1527422400-1527433200@aohva.com
SUMMARY:AOHVA AGM 2018
DESCRIPTION:You are invited to the AOHVA AGM 2018 \n*Please advise of your attendance so we can make the necessary refreshment and snack arrangements by Wednesday\, May 23rd\, 2018.
URL:https://aohva.com/event/aohva-agm-2018/
LOCATION:Sheraton Red Deer Hotel\, 3310 - 50th Avenue\, Red Deer\, Alberta\, T4N 3X9\, Canada
ORGANIZER;CN="AOHVA":MAILTO:office@aohva.com
END:VEVENT
BEGIN:VEVENT
DTSTART;TZID=UTC:20180422T120000
DTEND;TZID=UTC:20180422T160000
DTSTAMP:20260422T002835
CREATED:20180413T191509Z
LAST-MODIFIED:20180413T191509Z
UID:2076-1524398400-1524412800@aohva.com
SUMMARY:Albertan's Have a Voice and We Want Our Voices Heard
DESCRIPTION:The NDP Governments draft plans will close over 70% of existing OHV trails in the Livingstone-Porcupine Hills. \nOpen & Transparent Consultation needs to be held with all Alberta Recreational Stakeholder Groups.
URL:https://aohva.com/event/albertans-have-a-voice-and-we-want-our-voices-heard/
LOCATION:Alberta
END:VEVENT
BEGIN:VEVENT
DTSTART;TZID=UTC:20180405T150000
DTEND;TZID=UTC:20180408T170000
DTSTAMP:20260422T002835
CREATED:20180211T040540Z
LAST-MODIFIED:20180211T040809Z
UID:2012-1522940400-1523206800@aohva.com
SUMMARY:Lethbridge Outdoor Adventure Show
DESCRIPTION:Lethbridge Exhibition Park
URL:https://aohva.com/event/lethbridge-outdoor-adventure-show/
LOCATION:Lethbridge Exhibition Park\, 3401 Parkside Dr S\, Lethbridge\, Alberta\, T1J 4R3\, Canada
END:VEVENT
BEGIN:VEVENT
DTSTART;TZID=UTC:20180322T190000
DTEND;TZID=UTC:20180322T210000
DTSTAMP:20260422T002835
CREATED:20180221T204213Z
LAST-MODIFIED:20180221T204213Z
UID:2055-1521745200-1521752400@aohva.com
SUMMARY:AOHVA Town Hall - Bighorn Backcountry Information Session
DESCRIPTION:• Come out and learn about the issues\n• Find out what other user groups have to say\n• Know what you can do to help preserve and protect your opportunity to enjoy our natural landscapes
URL:https://aohva.com/event/aohva-town-hall-bighorn-backcountry-information-session/
LOCATION:Lou Soppit Community Centre\, 4733 54th Ave.\, Rocky Mountain House\, Alberta\, Canada
ORGANIZER;CN="AOHVA":MAILTO:office@aohva.com
END:VEVENT
BEGIN:VEVENT
DTSTART;TZID=UTC:20180315T120000
DTEND;TZID=UTC:20180318T170000
DTSTAMP:20260422T002835
CREATED:20170829T195452Z
LAST-MODIFIED:20170907T234042Z
UID:1510-1521115200-1521392400@aohva.com
SUMMARY:Edmonton Boat & Sportmen’s Show
DESCRIPTION:
URL:https://aohva.com/event/edmonton-boat-sportmens-show/
LOCATION:Alberta
END:VEVENT
BEGIN:VEVENT
DTSTART;TZID=UTC:20180208T120000
DTEND;TZID=UTC:20180211T170000
DTSTAMP:20260422T002835
CREATED:20170829T195339Z
LAST-MODIFIED:20170907T234137Z
UID:1508-1518091200-1518368400@aohva.com
SUMMARY:Calgary Boat & Sportsmen’s Show
DESCRIPTION:
URL:https://aohva.com/event/calgary-boat-sportsmens-show/
LOCATION:Alberta
END:VEVENT
BEGIN:VEVENT
DTSTART;TZID=UTC:20180112T120000
DTEND;TZID=UTC:20180114T170000
DTSTAMP:20260422T002835
CREATED:20170829T195231Z
LAST-MODIFIED:20170907T234200Z
UID:1506-1515758400-1515949200@aohva.com
SUMMARY:Edmonton Motorcycle Show
DESCRIPTION:
URL:https://aohva.com/event/edmonton-motorcycle-show/
LOCATION:Alberta
END:VEVENT
BEGIN:VEVENT
DTSTART;TZID=UTC:20180105T120000
DTEND;TZID=UTC:20180107T170000
DTSTAMP:20260422T002835
CREATED:20170829T194832Z
LAST-MODIFIED:20170907T234222Z
UID:1503-1515153600-1515344400@aohva.com
SUMMARY:Calgary Motorcycle Show
DESCRIPTION:
URL:https://aohva.com/event/calgary-motorcycle-show/
LOCATION:Alberta
END:VEVENT
BEGIN:VEVENT
DTSTART;VALUE=DATE:20171104
DTEND;VALUE=DATE:20171105
DTSTAMP:20260422T002835
CREATED:20170829T165049Z
LAST-MODIFIED:20171025T161400Z
UID:1488-1509753600-1509839999@aohva.com
SUMMARY:14th annual Rebels Ride and BBQ
DESCRIPTION:Club ride with BBQ after to meet and get to know club members. \nLocation: Wiaparous Creek 4×4 Staging area \nTime: Club led ride leaves at 10:30am \nwww.calgaryatvriders.com \nwww.facebook.com/CalgaryAtvRiders
URL:https://aohva.com/event/14th-annual-rebels-ride-and-bbq/
LOCATION:Alberta
END:VEVENT
BEGIN:VEVENT
DTSTART;TZID=UTC:20171016T183000
DTEND;TZID=UTC:20171016T203000
DTSTAMP:20260422T002835
CREATED:20170926T221304Z
LAST-MODIFIED:20170926T222307Z
UID:1912-1508178600-1508185800@aohva.com
SUMMARY:OHV Town Hall Meeting\, Lethbridge
DESCRIPTION:OHV TRAIL AND RANDOM CAMPING CLOSURES \nThe closure of approximately 2\,200 km of OHV trails in southwest Alberta is expected to be announced by the government this fall. Come out and learn about the issues and what you can do to help preserve and protect Albertans’ opportunities to enjoy our natural landscapes. We have a plan and we need your support. \nFor more information visit AOHVA.com \nSponsored by: Lethbridge Honda & New-Way Motorsports
URL:https://aohva.com/event/town-hall-meeting-lethbridge/
LOCATION:Nord-Bridge Seniors’ Centre\, 1904 - 13th Ave. North\, Lethbridge\, AB\, Canada
ORGANIZER;CN="AOHVA":MAILTO:office@aohva.com
END:VEVENT
BEGIN:VEVENT
DTSTART;VALUE=DATE:20170916
DTEND;VALUE=DATE:20170917
DTSTAMP:20260422T002835
CREATED:20170829T172341Z
LAST-MODIFIED:20170829T180725Z
UID:1496-1505520000-1505606399@aohva.com
SUMMARY:Brazeau ATV Club: 14th Annual Poker Rally
DESCRIPTION:Registration 10:00 a.m. till noon. \nRiding begins as soon as you are registered…all hands must be in by 4:00 p.m. \nFrom Drayton Valley\, take Hwy 22 to secondary Hwy 620 (Lodgepole) \nTurn south on RR83 and follow the signs. \nwww.bratvclub.epbrparkscouncil.org \nwww.facebook.com/groups/brazeauatvclub/
URL:https://aohva.com/event/brazeau-atv-club-14th-annual-poker-rally/
LOCATION:Alberta
END:VEVENT
BEGIN:VEVENT
DTSTART;TZID=UTC:20170831T080000
DTEND;TZID=UTC:20170903T170000
DTSTAMP:20260422T002835
CREATED:20170829T164127Z
LAST-MODIFIED:20170829T165117Z
UID:1484-1504166400-1504458000@aohva.com
SUMMARY:Calgary ATV Riders Association (CARA) Pig Roast\, Club Ride & Demo Days
DESCRIPTION:August 31 – September 3\, 2017 \nSeptember Long Weekend\, CARA’s 11th Annual Pig Roast.  Pro-Am Demo Days – Camping and riding on designated trail system. A $25/night camping fee applies to each camping unit. Large fenced private area with cookhouse\, outhouses\, garbage bins\, supplied firewood and room for 50+ units. New members and Day trips welcome. \nLocation: Ghost Airstrip Provincial Recreation Area (PRA) \nwww.calgaryatvriders.com \nwww.facebook.com/CalgaryAtvRiders
URL:https://aohva.com/event/calgary-atv-riders-pig-roast-club-ride-demo-days/
LOCATION:Alberta
END:VEVENT
END:VCALENDAR