BEGIN:VCALENDAR
VERSION:2.0
PRODID:-//AOHVA - ECPv6.15.17//NONSGML v1.0//EN
CALSCALE:GREGORIAN
METHOD:PUBLISH
X-WR-CALNAME:AOHVA
X-ORIGINAL-URL:https://aohva.com
X-WR-CALDESC:Events for AOHVA
REFRESH-INTERVAL;VALUE=DURATION:PT1H
X-Robots-Tag:noindex
X-PUBLISHED-TTL:PT1H
BEGIN:VTIMEZONE
TZID:UTC
BEGIN:STANDARD
TZOFFSETFROM:+0000
TZOFFSETTO:+0000
TZNAME:UTC
DTSTART:20160101T000000
END:STANDARD
END:VTIMEZONE
BEGIN:VEVENT
DTSTART;VALUE=DATE:20171104
DTEND;VALUE=DATE:20171105
DTSTAMP:20260421T212350
CREATED:20170829T165049Z
LAST-MODIFIED:20171025T161400Z
UID:1488-1509753600-1509839999@aohva.com
SUMMARY:14th annual Rebels Ride and BBQ
DESCRIPTION:Club ride with BBQ after to meet and get to know club members. \nLocation: Wiaparous Creek 4×4 Staging area \nTime: Club led ride leaves at 10:30am \nwww.calgaryatvriders.com \nwww.facebook.com/CalgaryAtvRiders
URL:https://aohva.com/event/14th-annual-rebels-ride-and-bbq/
END:VEVENT
BEGIN:VEVENT
DTSTART;TZID=UTC:20171016T183000
DTEND;TZID=UTC:20171016T203000
DTSTAMP:20260421T212350
CREATED:20170926T221304Z
LAST-MODIFIED:20170926T222307Z
UID:1912-1508178600-1508185800@aohva.com
SUMMARY:OHV Town Hall Meeting\, Lethbridge
DESCRIPTION:OHV TRAIL AND RANDOM CAMPING CLOSURES \nThe closure of approximately 2\,200 km of OHV trails in southwest Alberta is expected to be announced by the government this fall. Come out and learn about the issues and what you can do to help preserve and protect Albertans’ opportunities to enjoy our natural landscapes. We have a plan and we need your support. \nFor more information visit AOHVA.com \nSponsored by: Lethbridge Honda & New-Way Motorsports
URL:https://aohva.com/event/town-hall-meeting-lethbridge/
LOCATION:Nord-Bridge Seniors’ Centre\, 1904 - 13th Ave. North\, Lethbridge\, AB\, Canada
ORGANIZER;CN="AOHVA":MAILTO:office@aohva.com
END:VEVENT
BEGIN:VEVENT
DTSTART;VALUE=DATE:20170916
DTEND;VALUE=DATE:20170917
DTSTAMP:20260421T212350
CREATED:20170829T172341Z
LAST-MODIFIED:20170829T180725Z
UID:1496-1505520000-1505606399@aohva.com
SUMMARY:Brazeau ATV Club: 14th Annual Poker Rally
DESCRIPTION:Registration 10:00 a.m. till noon. \nRiding begins as soon as you are registered…all hands must be in by 4:00 p.m. \nFrom Drayton Valley\, take Hwy 22 to secondary Hwy 620 (Lodgepole) \nTurn south on RR83 and follow the signs. \nwww.bratvclub.epbrparkscouncil.org \nwww.facebook.com/groups/brazeauatvclub/
URL:https://aohva.com/event/brazeau-atv-club-14th-annual-poker-rally/
END:VEVENT
BEGIN:VEVENT
DTSTART;TZID=UTC:20170831T080000
DTEND;TZID=UTC:20170903T170000
DTSTAMP:20260421T212350
CREATED:20170829T164127Z
LAST-MODIFIED:20170829T165117Z
UID:1484-1504166400-1504458000@aohva.com
SUMMARY:Calgary ATV Riders Association (CARA) Pig Roast\, Club Ride & Demo Days
DESCRIPTION:August 31 – September 3\, 2017 \nSeptember Long Weekend\, CARA’s 11th Annual Pig Roast.  Pro-Am Demo Days – Camping and riding on designated trail system. A $25/night camping fee applies to each camping unit. Large fenced private area with cookhouse\, outhouses\, garbage bins\, supplied firewood and room for 50+ units. New members and Day trips welcome. \nLocation: Ghost Airstrip Provincial Recreation Area (PRA) \nwww.calgaryatvriders.com \nwww.facebook.com/CalgaryAtvRiders
URL:https://aohva.com/event/calgary-atv-riders-pig-roast-club-ride-demo-days/
END:VEVENT
END:VCALENDAR