BEGIN:VCALENDAR
VERSION:2.0
PRODID:-//AOHVA - ECPv6.15.17//NONSGML v1.0//EN
CALSCALE:GREGORIAN
METHOD:PUBLISH
X-ORIGINAL-URL:https://aohva.com
X-WR-CALDESC:Events for AOHVA
REFRESH-INTERVAL;VALUE=DURATION:PT1H
X-Robots-Tag:noindex
X-PUBLISHED-TTL:PT1H
BEGIN:VTIMEZONE
TZID:UTC
BEGIN:STANDARD
TZOFFSETFROM:+0000
TZOFFSETTO:+0000
TZNAME:UTC
DTSTART:20190101T000000
END:STANDARD
END:VTIMEZONE
BEGIN:VEVENT
DTSTART;TZID=UTC:20200228T080000
DTEND;TZID=UTC:20200301T170000
DTSTAMP:20260426T021314
CREATED:20200102T022724Z
LAST-MODIFIED:20200102T022724Z
UID:3496-1582876800-1583082000@aohva.com
SUMMARY:Red Deer Sportsman & Outdoor Show
DESCRIPTION:
URL:https://aohva.com/event/red-deer-sportsman-outdoor-show/
LOCATION:Alberta
END:VEVENT
BEGIN:VEVENT
DTSTART;TZID=UTC:20200312T080000
DTEND;TZID=UTC:20200315T170000
DTSTAMP:20260426T021314
CREATED:20200102T022841Z
LAST-MODIFIED:20200102T022841Z
UID:3498-1584000000-1584291600@aohva.com
SUMMARY:Edmonton Boat & Sportsmen’s Show
DESCRIPTION:
URL:https://aohva.com/event/edmonton-boat-sportsmens-show/
LOCATION:Alberta
END:VEVENT
BEGIN:VEVENT
DTSTART;VALUE=DATE:20200318
DTEND;VALUE=DATE:20200322
DTSTAMP:20260426T021314
CREATED:20200226T034506Z
LAST-MODIFIED:20200317T022811Z
UID:3519-1584489600-1584835199@aohva.com
SUMMARY:Lethbridge Home & Garden Show POSTPONED
DESCRIPTION:
URL:https://aohva.com/event/lethbridge-home-garden-show/
LOCATION:Lethbridge Exhibition Park\, 3401 Parkside Dr S\, Lethbridge\, Alberta\, T1J 4R3\, Canada
END:VEVENT
END:VCALENDAR