BEGIN:VCALENDAR
VERSION:2.0
PRODID:-//AOHVA - ECPv6.15.17//NONSGML v1.0//EN
CALSCALE:GREGORIAN
METHOD:PUBLISH
X-ORIGINAL-URL:https://aohva.com
X-WR-CALDESC:Events for AOHVA
REFRESH-INTERVAL;VALUE=DURATION:PT1H
X-Robots-Tag:noindex
X-PUBLISHED-TTL:PT1H
BEGIN:VTIMEZONE
TZID:UTC
BEGIN:STANDARD
TZOFFSETFROM:+0000
TZOFFSETTO:+0000
TZNAME:UTC
DTSTART:20190101T000000
END:STANDARD
END:VTIMEZONE
BEGIN:VEVENT
DTSTART;VALUE=DATE:20200403
DTEND;VALUE=DATE:20200406
DTSTAMP:20260426T003841
CREATED:20200226T035029Z
LAST-MODIFIED:20200226T035029Z
UID:3521-1585872000-1586131199@aohva.com
SUMMARY:Grande Prairie Sports Expo
DESCRIPTION:
URL:https://aohva.com/event/grande-prairie-sports-expo/
LOCATION:Evergreen Park\, 55051 Township Rd 710\, Grande Prairie\, AB\, T8X 4A3\, Canada
END:VEVENT
END:VCALENDAR