BEGIN:VCALENDAR
VERSION:2.0
PRODID:-//AOHVA - ECPv6.15.17//NONSGML v1.0//EN
CALSCALE:GREGORIAN
METHOD:PUBLISH
X-ORIGINAL-URL:https://aohva.com
X-WR-CALDESC:Events for AOHVA
REFRESH-INTERVAL;VALUE=DURATION:PT1H
X-Robots-Tag:noindex
X-PUBLISHED-TTL:PT1H
BEGIN:VTIMEZONE
TZID:UTC
BEGIN:STANDARD
TZOFFSETFROM:+0000
TZOFFSETTO:+0000
TZNAME:UTC
DTSTART:20190101T000000
END:STANDARD
END:VTIMEZONE
BEGIN:VEVENT
DTSTART;VALUE=DATE:20200508
DTEND;VALUE=DATE:20200510
DTSTAMP:20260425T225153
CREATED:20200226T035359Z
LAST-MODIFIED:20200507T025253Z
UID:3524-1588896000-1589068799@aohva.com
SUMMARY:CANCELLED -- Rocky Mountain House Trade Show
DESCRIPTION:
URL:https://aohva.com/event/rocky-mountain-house-trade-show/
LOCATION:Christenson Sport and Wellness Centre\, Rocky Mountain House\, AB\, Canada
END:VEVENT
END:VCALENDAR