BEGIN:VCALENDAR
VERSION:2.0
PRODID:-//AOHVA - ECPv6.15.17//NONSGML v1.0//EN
CALSCALE:GREGORIAN
METHOD:PUBLISH
X-ORIGINAL-URL:https://aohva.com
X-WR-CALDESC:Events for AOHVA
REFRESH-INTERVAL;VALUE=DURATION:PT1H
X-Robots-Tag:noindex
X-PUBLISHED-TTL:PT1H
BEGIN:VTIMEZONE
TZID:UTC
BEGIN:STANDARD
TZOFFSETFROM:+0000
TZOFFSETTO:+0000
TZNAME:UTC
DTSTART:20250101T000000
END:STANDARD
END:VTIMEZONE
BEGIN:VEVENT
DTSTART;TZID=UTC:20260130T110000
DTEND;TZID=UTC:20260201T170000
DTSTAMP:20260421T144016
CREATED:20260121T022621Z
LAST-MODIFIED:20260121T023841Z
UID:85545-1769770800-1769965200@aohva.com
SUMMARY:Calgary Motorcycle & Powersports Show
DESCRIPTION:January 30 – February 1\, 2026 \nBMO Centre\, Stampede Park
URL:https://aohva.com/event/calgary-motorcycle-powersports-show/
LOCATION:BMO Centre\, 1912 Flores Ladue Parade SE\, Calgary\, Alberta\, T2G 2W1\, Canada
END:VEVENT
BEGIN:VEVENT
DTSTART;TZID=UTC:20260220T120000
DTEND;TZID=UTC:20260222T160000
DTSTAMP:20260421T144016
CREATED:20260121T022851Z
LAST-MODIFIED:20260121T023941Z
UID:85561-1771588800-1771776000@aohva.com
SUMMARY:Calgary Boat & Outdoors Show
DESCRIPTION:February 20 – 22\, 2026 \nBMO Centre\, Stampede Park
URL:https://aohva.com/event/calgary-boat-outdoors-show-2/
LOCATION:BMO Centre\, 1912 Flores Ladue Parade SE\, Calgary\, Alberta\, T2G 2W1\, Canada
END:VEVENT
BEGIN:VEVENT
DTSTART;TZID=UTC:20260227T160000
DTEND;TZID=UTC:20260301T160000
DTSTAMP:20260421T144016
CREATED:20260121T023035Z
LAST-MODIFIED:20260121T024133Z
UID:85563-1772208000-1772380800@aohva.com
SUMMARY:Red Deer Sports and Outdoor Show
DESCRIPTION:February 27 – March 1 2026 \nWesterner Park\, Red Deer
URL:https://aohva.com/event/red-deer-sports-and-outdoor-show/
LOCATION:Westerner Park Red Deer\, 4847A 19 St\, Red Deer\, Alberta\, T4R 2N7\, Canada
END:VEVENT
END:VCALENDAR